BEGIN:VCALENDAR
VERSION:2.0
PRODID:-//Squarespace Inc/Squarespace 6//v6//EN
BEGIN:VEVENT
UID:5c6a28c8e4966b1492a7cd82@squarespace.com
DTSTAMP:20190311T022329Z
DTSTART:20190315T140000Z
DTEND:20190316T210000Z
SUMMARY:WORLD Pop-up + Perfume Masterclass
GEO:-45.874406;170.502868
LOCATION:Dunedin Public Art Gallery\, 30 The Octagon\, Dunedin\, OTA\, 9016
 \, New Zealand
END:VEVENT
END:VCALENDAR
