BEGIN:VCALENDAR
VERSION:2.0
PRODID:-//Squarespace Inc/Squarespace 6//v6//EN
BEGIN:VEVENT
UID:5c87198feef1a138a041ab28@squarespace.com
DTSTAMP:20190312T030810Z
DTSTART:20190314T230000Z
DTEND:20190315T020000Z
SUMMARY:Estelle Clifford LIVE at the Octagon
GEO:-45.874079;170.504431
LOCATION:Prohibition Smokehouse\, 10 The Octagon\, Dunedin\, OTA\, 9016\, N
 ew Zealand
END:VEVENT
END:VCALENDAR
