BEGIN:VCALENDAR
VERSION:2.0
PRODID:-//Squarespace Inc/Squarespace 6//v6//EN
BEGIN:VEVENT
UID:5c74a706e4966b9bdf7acca6@squarespace.com
DTSTAMP:20190307T214001Z
DTSTART:20190312T180000Z
DTEND:20190312T210000Z
SUMMARY:Wardrobe Evolution by Stitch Kitchen
GEO:-45.875183;170.504415
LOCATION:Dunedin City Library\, Dunningham Suite\, 4th Floor\, 430 Moray Pl
 ace\, Dunedin\, OTA\, 9016\, New Zealand
END:VEVENT
END:VCALENDAR
