BEGIN:VCALENDAR
VERSION:2.0
PRODID:-//Squarespace Inc/Squarespace 6//v6//EN
BEGIN:VEVENT
UID:5c64d9a04192024f96af0d7b@squarespace.com
DTSTAMP:20190303T233426Z
DTSTART:20190315T220000Z
DTEND:20190316T000000Z
SUMMARY:Shop iD: Late Night Edition
GEO:-45.870416;170.505431
LOCATION:Meridian Mall\, 285 George Street\, Dunedin\, OTA\, 9016\, New Zea
 land
END:VEVENT
END:VCALENDAR
