BEGIN:VCALENDAR
VERSION:2.0
PRODID:-//Squarespace Inc/Squarespace 6//v6//EN
BEGIN:VEVENT
UID:5c65f32a9b747a74ed1f25f6@squarespace.com
DTSTAMP:20190309T204408Z
DTSTART:20190216T130000Z
DTEND:20190313T210000Z
SUMMARY:Shop iD
GEO:-40.900557;174.885971
LOCATION:Participating Dunedin Retailers
END:VEVENT
END:VCALENDAR
