BEGIN:VCALENDAR
VERSION:2.0
PRODID:-//Squarespace Inc/Squarespace 6//v6//EN
BEGIN:VEVENT
UID:5c3fe773f950b7e303b0e14c@squarespace.com
DTSTAMP:20190303T232114Z
DTSTART:20190313T200000Z
DTEND:20190313T220000Z
SUMMARY:Rediscover Vintage Workshop: Shop on Carroll
GEO:-45.880757;170.499248
LOCATION:Shop on Carroll\, 10 Carroll Street\, Dunedin\, OTA\, 9016\, New Z
 ealand
END:VEVENT
END:VCALENDAR
