BEGIN:VCALENDAR
VERSION:2.0
PRODID:-//Squarespace Inc/Squarespace 6//v6//EN
BEGIN:VEVENT
UID:5c75cedaee6eb02ae93a7ace@squarespace.com
DTSTAMP:20190303T233248Z
DTSTART:20190315T171500Z
DTEND:20190315T181500Z
SUMMARY:Media Lunch
GEO:-45.878484;170.503519
LOCATION:Good Good\, 22 Vogel Street\, Dunedin\, OTA\, 9016\, New Zealand
END:VEVENT
END:VCALENDAR
