BEGIN:VCALENDAR
VERSION:2.0
PRODID:-//Squarespace Inc/Squarespace 6//v6//EN
BEGIN:VEVENT
UID:5c69e28f9b747a1be0e736b8@squarespace.com
DTSTAMP:20190305T221139Z
DTSTART:20190312T140000Z
DTEND:20190316T210000Z
SUMMARY:iD Dunedin Fashion Week Hub
GEO:-45.87017;170.505552
LOCATION:Meridian Mall\, 285 George Street\, Dunedin\, OTA\, 9016\, New Zea
 land
END:VEVENT
END:VCALENDAR
