BEGIN:VCALENDAR
VERSION:2.0
PRODID:-//Squarespace Inc/Squarespace 6//v6//EN
BEGIN:VEVENT
UID:5c69fef79b747a1be0e8583e@squarespace.com
DTSTAMP:20190312T020913Z
DTSTART:20190315T114500Z
DTEND:20190315T130000Z
SUMMARY:iD Fashion Jewellery Breakfast by Marks &amp\; Worth
GEO:-45.87036;170.516727
LOCATION:Emerson's Brewery\, 70 Anzac Avenue\, Dunedin\, OTA\, 9016\, New Z
 ealand
END:VEVENT
END:VCALENDAR
