BEGIN:VCALENDAR
VERSION:2.0
PRODID:-//Squarespace Inc/Squarespace 6//v6//EN
BEGIN:VEVENT
UID:5c74acec0d92970b2d5f2961@squarespace.com
DTSTAMP:20190303T232705Z
DTSTART:20190315T133000Z
DTEND:20190315T203000Z
SUMMARY: Fashion Fluid Symposium
GEO:-45.874406;170.502868
LOCATION:Dunedin Public Art Gallery\, 30 The Octagon\, Dunedin\, OTA\, 9016
 \, New Zealand
END:VEVENT
END:VCALENDAR
