BEGIN:VCALENDAR
VERSION:2.0
PRODID:-//Squarespace Inc/Squarespace 6//v6//EN
BEGIN:VEVENT
UID:5c75d3767817f7c9da2b9612@squarespace.com
DTSTAMP:20190303T232641Z
DTSTART:20190315T120000Z
DTEND:20190315T140000Z
SUMMARY:Dunedin Shanghai Association Sister City Breakfast
GEO:-45.878159;170.505528
LOCATION:Dunedin Chinese Gardens\, 39 Queens Gardens\, Dunedin\, OTA\, 9016
 \, New Zealand
END:VEVENT
END:VCALENDAR
