BEGIN:VCALENDAR
VERSION:2.0
PRODID:-//Squarespace Inc/Squarespace 6//v6//EN
BEGIN:VEVENT
UID:5c5213eec74c505e1735b125@squarespace.com
DTSTAMP:20190310T221214Z
DTSTART:20190315T140000Z
DTEND:20190316T200000Z
SUMMARY:Debra Fallowfield Sale 
GEO:-45.815725;170.621295
LOCATION:Debra Fallowfield\, 26A George Street\, Port Chalmers\, OTA\, 9023
 \, New Zealand
END:VEVENT
END:VCALENDAR
