BEGIN:VCALENDAR
VERSION:2.0
PRODID:-//Squarespace Inc/Squarespace 6//v6//EN
BEGIN:VEVENT
UID:5c341ddb4ae2379d433efd8a@squarespace.com
DTSTAMP:20190303T234113Z
DTSTART:20190316T190000Z
DTEND:20190316T200000Z
SUMMARY:viva.co.nz Designer Conversations: iD Emerging Designers
GEO:-45.874389;170.502917
LOCATION:Dunedin Public Art Gallery\, 30 The Octagon\, Dunedin\, OTA\, 9016
 \, New Zealand
END:VEVENT
END:VCALENDAR
