BEGIN:VCALENDAR
VERSION:2.0
PRODID:-//Squarespace Inc/Squarespace 6//v6//EN
BEGIN:VEVENT
UID:5c33eddaaa4a996712e8de18@squarespace.com
DTSTAMP:20190310T093201Z
DTSTART:20190317T023000Z
DTEND:20190317T043000Z
SUMMARY:iD Dunedin Wrap Party
GEO:-45.8844;170.498874
LOCATION:New New New Corporation\, 218 Crawford Street\, Dunedin\, OTA\, 90
 16\, New Zealand
END:VEVENT
END:VCALENDAR
