BEGIN:VCALENDAR
VERSION:2.0
PRODID:-//Squarespace Inc/Squarespace 6//v6//EN
BEGIN:VEVENT
UID:5c33e73970a6ad0ce7615d6e@squarespace.com
DTSTAMP:20190310T093132Z
DTSTART:20190316T233000Z
DTEND:20190317T020000Z
SUMMARY:Human Apparel Expo '19
GEO:-45.8844;170.498874
LOCATION:New New New Corporation\, 218 Crawford Street\, Dunedin\, OTA\, 90
 16\, New Zealand
END:VEVENT
END:VCALENDAR
