BEGIN:VCALENDAR
VERSION:2.0
PRODID:-//Squarespace Inc/Squarespace 6//v6//EN
BEGIN:VEVENT
UID:5be8fb09f950b7a8d8ca4c30@squarespace.com
DTSTAMP:20190303T233559Z
DTSTART:20190315T233000Z
DTEND:20190316T013000Z
SUMMARY:iD Dunedin 20th Anniversary Show&nbsp\;+ International Emerging Des
 igners Awards Ceremony
GEO:-45.874579;170.504118
LOCATION:Regent Theatre\, 17 The Octagon\, Dunedin\, OTA\, 9016\, New Zeala
 nd
END:VEVENT
END:VCALENDAR
