BEGIN:VCALENDAR
VERSION:2.0
PRODID:-//Squarespace Inc/Squarespace 6//v6//EN
BEGIN:VEVENT
UID:5c00bda9562fa711f7f0d540@squarespace.com
DTSTAMP:20190303T233635Z
DTSTART:20190316T020000Z
DTEND:20190316T035900Z
SUMMARY:iD 20th Anniversary Party
GEO:36.871503;-76.297887
LOCATION:Vault 21\, 21 The Octagon\, Dunedin\, OTA\, 9016\, New Zealand
END:VEVENT
END:VCALENDAR
