BEGIN:VCALENDAR
VERSION:2.0
PRODID:-//Squarespace Inc/Squarespace 6//v6//EN
BEGIN:VEVENT
UID:5c0dce83758d469c1489a23f@squarespace.com
DTSTAMP:20190303T232849Z
DTSTART:20190315T140000Z
DTEND:20190316T210000Z
SUMMARY:iD Emerging Garments Display
GEO:-45.874406;170.502868
LOCATION:Dunedin Public Art Gallery\, 30 The Octagon\, Dunedin\, OTA\, 9016
 \, New Zealand
END:VEVENT
END:VCALENDAR
