BEGIN:VCALENDAR
VERSION:2.0
PRODID:-//Squarespace Inc/Squarespace 6//v6//EN
BEGIN:VEVENT
UID:5c351071562fa76e1b139dc9@squarespace.com
DTSTAMP:20190304T223147Z
DTSTART:20190315T160000Z
DTEND:20190315T170000Z
SUMMARY:Viva.co.nz Designer Conversations: Kate Sylvester
GEO:-45.874406;170.502868
LOCATION:Dunedin Public Art Gallery\, 30 The Octagon\, Dunedin\, OTA\, 9016
 \, New Zealand
END:VEVENT
END:VCALENDAR
