BEGIN:VCALENDAR
VERSION:2.0
PRODID:-//Squarespace Inc/Squarespace 6//v6//EN
BEGIN:VEVENT
UID:5c0dcc4c562fa767853e8e3c@squarespace.com
DTSTAMP:20190312T085553Z
DTSTART:20190314T180000Z
DTEND:20190314T190000Z
SUMMARY:CANCELLED viva.co.nz Designer Conversations: Darlene Gore
GEO:-45.876974;170.505842
LOCATION:Toitu Otago Settlers Museum\, 31 Queens Gardens\, Dunedin\, OTA\, 
 9016\, New Zealand
END:VEVENT
END:VCALENDAR
