BEGIN:VCALENDAR
VERSION:2.0
PRODID:-//Squarespace Inc/Squarespace 6//v6//EN
BEGIN:VEVENT
UID:5c6a2194419202ebf6fc5f96@squarespace.com
DTSTAMP:20190311T020946Z
DTSTART:20190316T163000Z
DTEND:20190316T170000Z
SUMMARY:L'Oréal Paris Styling Session
GEO:-45.87017;170.505552
LOCATION:H&J Smith at Meridian Mall\, 285 George Street\, Dunedin\, OTA\, 9
 016\, New Zealand
END:VEVENT
END:VCALENDAR
