BEGIN:VCALENDAR
VERSION:2.0
PRODID:-//Squarespace Inc/Squarespace 6//v6//EN
BEGIN:VEVENT
UID:5c6a02cfeef1a1de5b10b831@squarespace.com
DTSTAMP:20190303T233208Z
DTSTART:20190315T140000Z
DTEND:20190316T200000Z
SUMMARY:Get Your Glam On with L'Oréal Paris
GEO:-45.87017;170.505552
LOCATION:H&J Smith at Meridian Mall\, 285 George Street\, Dunedin\, OTA\, 9
 016\, New Zealand
END:VEVENT
END:VCALENDAR
