BEGIN:VCALENDAR
VERSION:2.0
PRODID:-//Squarespace Inc/Squarespace 6//v6//EN
BEGIN:VEVENT
UID:5c341bd240ec9a9a469a3bd5@squarespace.com
DTSTAMP:20190303T232557Z
DTSTART:20190314T230000Z
DTEND:20190315T013000Z
SUMMARY:Breast Cancer Cure: Fashion for a Cure Show
GEO:-45.879725;170.503351
LOCATION:77 Vogel Street\, 77 Vogel Street\, Dunedin\, OTA\, 9016\, New Zea
 land
END:VEVENT
END:VCALENDAR
