BEGIN:VCALENDAR
VERSION:2.0
PRODID:-//Squarespace Inc/Squarespace 6//v6//EN
BEGIN:VEVENT
UID:5c00b8fd2b6a2851f33824da@squarespace.com
DTSTAMP:20190303T231857Z
DTSTART:20190312T220000Z
DTEND:20190313T010000Z
SUMMARY:iD Opening Night - Taste of Dunedin
GEO:-45.87036;170.516727
LOCATION:Emerson’s Brewery\, 70 Anzac Avenue\, Dunedin\, OTA\, 9016\, New Z
 ealand
END:VEVENT
END:VCALENDAR
