BEGIN:VCALENDAR
VERSION:2.0
PRODID:-//Squarespace Inc/Squarespace 6//v6//EN
BEGIN:VEVENT
UID:5c00bbd24d7a9cbd47e9ebee@squarespace.com
DTSTAMP:20190303T232230Z
DTSTART:20190314T160000Z
DTEND:20190314T170000Z
SUMMARY:Fashion Tour
GEO:-45.872976;170.503373
LOCATION:Dunedin City Library\, 230 Moray Place\, Dunedin\, OTA\, 9016\, Ne
 w Zealand
END:VEVENT
END:VCALENDAR
