BEGIN:VCALENDAR
VERSION:2.0
PRODID:-//Squarespace Inc/Squarespace 6//v6//EN
BEGIN:VEVENT
UID:5c3419174ae2379d433ec0e4@squarespace.com
DTSTAMP:20190303T231618Z
DTSTART:20190311T140000Z
DTEND:20190317T210000Z
SUMMARY:New Networks: Contemporary Chinese Art
GEO:-45.874389;170.502917
LOCATION:Dunedin Public Art Gallery\, 30 The Octagon\, Dunedin\, OTA\, 9016
 \, New Zealand
END:VEVENT
END:VCALENDAR
