BEGIN:VCALENDAR
VERSION:2.0
PRODID:-//Squarespace Inc/Squarespace 6//v6//EN
BEGIN:VEVENT
UID:5c009654aa4a998980e139b6@squarespace.com
DTSTAMP:20190303T231711Z
DTSTART:20190311T140000Z
DTEND:20190317T230000Z
SUMMARY:Emerson's Brewery Tour + Beer Tasting at the Taproom
GEO:-45.87036;170.516727
LOCATION:Emerson's Brewery\, 70 Anzac Avenue\, Dunedin\, OTA\, 9016\, New Z
 ealand
END:VEVENT
END:VCALENDAR
