BEGIN:VCALENDAR
VERSION:2.0
PRODID:-//Squarespace Inc/Squarespace 6//v6//EN
BEGIN:VEVENT
UID:5c00a1556d2a73cce5c7b941@squarespace.com
DTSTAMP:20190303T233058Z
DTSTART:20190311T133000Z
DTEND:20190317T200000Z
SUMMARY:AV Cube at the Dunedin City Library 
GEO:-45.875182;170.504415
LOCATION:Dunedin City Library\, 430 Moray Place\, Dunedin\, OTA\, 9016\, Ne
 w Zealand
END:VEVENT
END:VCALENDAR
