BEGIN:VCALENDAR
VERSION:2.0
PRODID:-//Squarespace Inc/Squarespace 6//v6//EN
BEGIN:VEVENT
UID:5c00984baa4a998980e154b9@squarespace.com
DTSTAMP:20190303T233044Z
DTSTART:20190311T130000Z
DTEND:20190317T210000Z
SUMMARY:Gallery De Novo iD Dunedin Art Exhibition
GEO:-45.874842;170.505589
LOCATION:Gallery De Novo\, 101 Stuart Street\, Dunedin\, OTA\, 9016\, New Z
 ealand
END:VEVENT
END:VCALENDAR
