BEGIN:VCALENDAR
VERSION:2.0
PRODID:-//Squarespace Inc/Squarespace 6//v6//EN
BEGIN:VEVENT
UID:5c589d6d9140b7b7940d4da5@squarespace.com
DTSTAMP:20190305T223239Z
DTSTART:20190316T170000Z
DTEND:20190316T180000Z
SUMMARY:Lapin &amp\; Mooneys: Regarding Fur
GEO:-45.874364;170.505056
LOCATION:Lapin Studio/Gallery\, 130 Stuart Street\, Dunedin\, OTA\, 9016\, 
 New Zealand
END:VEVENT
END:VCALENDAR
