BEGIN:VCALENDAR
VERSION:2.0
PRODID:-//Squarespace Inc/Squarespace 6//v6//EN
BEGIN:VEVENT
UID:5c6a0e938165f5f2b2907938@squarespace.com
DTSTAMP:20190303T233332Z
DTSTART:20190315T210000Z
DTEND:20190316T210000Z
SUMMARY:24 Hours at the Sweatshop \\\\ Company of Strangers + Jay Hutchinso
 n
GEO:-45.869467;170.506429
LOCATION:Company of Strangers\, 320 George Street\, Dunedin\, OTA\, 9016\, 
 New Zealand
END:VEVENT
END:VCALENDAR
