BEGIN:VCALENDAR
VERSION:2.0
PRODID:-//Squarespace Inc/Squarespace 6//v6//EN
BEGIN:VEVENT
UID:5c33e70e40ec9a9a46976ba4@squarespace.com
DTSTAMP:20190311T020917Z
DTSTART:20190316T160000Z
DTEND:20190316T163000Z
SUMMARY:Meet the H&amp\;J Smith 1st Place Prize Winner
GEO:-45.87017;170.505552
LOCATION:H&J Smith at Meridian Mall\, 285 George Street\, Dunedin\, OTA\, 9
 016\, New Zealand
END:VEVENT
END:VCALENDAR
