BEGIN:VCALENDAR
VERSION:2.0
PRODID:-//Squarespace Inc/Squarespace 6//v6//EN
BEGIN:VEVENT
UID:5c33e6290ebbe827bc656f2d@squarespace.com
DTSTAMP:20190303T233404Z
DTSTART:20190315T213000Z
DTEND:20190315T223000Z
SUMMARY:viva.co.nz Designer Conversations: Lucy Hammonds
GEO:-45.872976;170.503373
LOCATION:Dunedin City Library\, 230 Moray Place\, Dunedin\, OTA\, 9016\, Ne
 w Zealand
END:VEVENT
END:VCALENDAR
