BEGIN:VCALENDAR
VERSION:2.0
PRODID:-//Squarespace Inc/Squarespace 6//v6//EN
BEGIN:VEVENT
UID:5c60b763f9619ad3547bdea6@squarespace.com
DTSTAMP:20190310T090140Z
DTSTART:20190314T140000Z
DTEND:20190315T200000Z
SUMMARY:Charmaine Reveley X Paper Garden
GEO:-45.87953;170.503173
LOCATION:Acorn Creative Studio\, 260 Vogel Street\, Dunedin\, OTA\, 9016\, 
 New Zealand
END:VEVENT
END:VCALENDAR
