BEGIN:VCALENDAR
VERSION:2.0
PRODID:-//Squarespace Inc/Squarespace 6//v6//EN
BEGIN:VEVENT
UID:5c00baebf950b79112fd5381@squarespace.com
DTSTAMP:20190312T020857Z
DTSTART:20190313T183000Z
DTEND:20190313T204000Z
SUMMARY:iD Fashionable Conversation at Glenfalloch
GEO:-45.873661;170.585525
LOCATION:Glenfalloch Restaurant and Gardens\, 430 Portobello Road\, Dunedin
 \, OTA\, 9077\, New Zealand
END:VEVENT
END:VCALENDAR
