BEGIN:VCALENDAR
VERSION:2.0
PRODID:-//Squarespace Inc/Squarespace 6//v6//EN
BEGIN:VEVENT
UID:5be8fc140ebbe885c5ab7542@squarespace.com
DTSTAMP:20190303T233611Z
DTSTART:20190316T233000Z
DTEND:20190317T013000Z
SUMMARY:iD Dunedin 20th Anniversary Show + International Emerging Designers 
 Show
GEO:-45.8746;170.504048
LOCATION:Regent Theatre\, 18 The Octagon\, Dunedin\, OTA\, 9016\, New Zeala
 nd
END:VEVENT
END:VCALENDAR
